BEGIN:VCALENDAR
VERSION:2.0
PRODID:-//Laval Économique - ECPv6.15.12.2//NONSGML v1.0//EN
CALSCALE:GREGORIAN
METHOD:PUBLISH
X-WR-CALNAME:Laval Économique
X-ORIGINAL-URL:https://lavaleconomique.com
X-WR-CALDESC:Évènements pour Laval Économique
REFRESH-INTERVAL;VALUE=DURATION:PT1H
X-Robots-Tag:noindex
X-PUBLISHED-TTL:PT1H
BEGIN:VTIMEZONE
TZID:America/New_York
BEGIN:DAYLIGHT
TZOFFSETFROM:-0500
TZOFFSETTO:-0400
TZNAME:EDT
DTSTART:20230312T070000
END:DAYLIGHT
BEGIN:STANDARD
TZOFFSETFROM:-0400
TZOFFSETTO:-0500
TZNAME:EST
DTSTART:20231105T060000
END:STANDARD
BEGIN:DAYLIGHT
TZOFFSETFROM:-0500
TZOFFSETTO:-0400
TZNAME:EDT
DTSTART:20240310T070000
END:DAYLIGHT
BEGIN:STANDARD
TZOFFSETFROM:-0400
TZOFFSETTO:-0500
TZNAME:EST
DTSTART:20241103T060000
END:STANDARD
BEGIN:DAYLIGHT
TZOFFSETFROM:-0500
TZOFFSETTO:-0400
TZNAME:EDT
DTSTART:20250309T070000
END:DAYLIGHT
BEGIN:STANDARD
TZOFFSETFROM:-0400
TZOFFSETTO:-0500
TZNAME:EST
DTSTART:20251102T060000
END:STANDARD
END:VTIMEZONE
BEGIN:VEVENT
DTSTART;TZID=America/New_York:20241114T113000
DTEND;TZID=America/New_York:20241114T130000
DTSTAMP:20260422T102726
CREATED:20240429T193040Z
LAST-MODIFIED:20240813T154816Z
UID:10000104-1731583800-1731589200@lavaleconomique.com
SUMMARY:Surmonter les mythes et les obstacles des risques psychosociaux
DESCRIPTION:
URL:https://lavaleconomique.com/evenement/surmonter-les-mythes-et-les-obstacles-des-risques-psychosociaux/
LOCATION:Laval économique\, 1333 boulevard Chomedey\, bureau 401\, Laval\, Québec\, H7V 3Y1\, Canada
CATEGORIES:Talent
ATTACH;FMTTYPE=image/png:https://lavaleconomique.com/wp-content/uploads/2023/09/dev91-maindoeuvre-talent-evenements-site-web-390x290-1.png
END:VEVENT
BEGIN:VEVENT
DTSTART;TZID=America/New_York:20241119T073000
DTEND;TZID=America/New_York:20241119T133000
DTSTAMP:20260422T102726
CREATED:20240513T193344Z
LAST-MODIFIED:20250408T122629Z
UID:10000110-1732001400-1732023000@lavaleconomique.com
SUMMARY:Grande rencontre IMPACT Investissements immobiliers
DESCRIPTION:
URL:https://lavaleconomique.com/evenement/grande-rencontre-impact-investissements-immobiliers/
LOCATION:Château Royal\, 3500\, boulevard du Souvenir\, Laval\, Québec\, H7V 1X2\, Canada
CATEGORIES:Immobilier
ATTACH;FMTTYPE=image/png:https://lavaleconomique.com/wp-content/uploads/2024/05/dev50-granderencontreimpact-24-griii-bandeau-390x290-bleu.png
END:VEVENT
BEGIN:VEVENT
DTSTART;VALUE=DATE:20241130
DTEND;VALUE=DATE:20241202
DTSTAMP:20260422T102726
CREATED:20240729T142126Z
LAST-MODIFIED:20240730T134851Z
UID:10000668-1732924800-1733097599@lavaleconomique.com
SUMMARY:Mission de recrutement Journées Québec France
DESCRIPTION:
URL:https://lavaleconomique.com/evenement/mission-de-recrutement-journees-quebec-france/
LOCATION:Paris\, France\, Paris\, France
CATEGORIES:Mission
ATTACH;FMTTYPE=image/png:https://lavaleconomique.com/wp-content/uploads/2022/07/accueil-evenement-mission-390x290-1.png
END:VEVENT
END:VCALENDAR