BEGIN:VCALENDAR
VERSION:2.0
PRODID:-//Laval Économique - ECPv6.15.12.2//NONSGML v1.0//EN
CALSCALE:GREGORIAN
METHOD:PUBLISH
X-ORIGINAL-URL:https://lavaleconomique.com
X-WR-CALDESC:Évènements pour Laval Économique
REFRESH-INTERVAL;VALUE=DURATION:PT1H
X-Robots-Tag:noindex
X-PUBLISHED-TTL:PT1H
BEGIN:VTIMEZONE
TZID:America/New_York
BEGIN:DAYLIGHT
TZOFFSETFROM:-0500
TZOFFSETTO:-0400
TZNAME:EDT
DTSTART:20250309T070000
END:DAYLIGHT
BEGIN:STANDARD
TZOFFSETFROM:-0400
TZOFFSETTO:-0500
TZNAME:EST
DTSTART:20251102T060000
END:STANDARD
BEGIN:DAYLIGHT
TZOFFSETFROM:-0500
TZOFFSETTO:-0400
TZNAME:EDT
DTSTART:20260308T070000
END:DAYLIGHT
BEGIN:STANDARD
TZOFFSETFROM:-0400
TZOFFSETTO:-0500
TZNAME:EST
DTSTART:20261101T060000
END:STANDARD
BEGIN:DAYLIGHT
TZOFFSETFROM:-0500
TZOFFSETTO:-0400
TZNAME:EDT
DTSTART:20270314T070000
END:DAYLIGHT
BEGIN:STANDARD
TZOFFSETFROM:-0400
TZOFFSETTO:-0500
TZNAME:EST
DTSTART:20271107T060000
END:STANDARD
END:VTIMEZONE
BEGIN:VEVENT
DTSTART;TZID=America/New_York:20260610T120000
DTEND;TZID=America/New_York:20260610T140000
DTSTAMP:20260419T113956
CREATED:20260209T190336Z
LAST-MODIFIED:20260408T172738Z
UID:10000766-1781092800-1781100000@lavaleconomique.com
SUMMARY:Réseau Exportateurs – dîners stratégiques pour propulser vos activités à l’international
DESCRIPTION:
URL:https://lavaleconomique.com/evenement/reseau-exportateurs-diners-strategiques-pour-propulser-vos-activites-a-linternational/2026-06-10/
LOCATION:Laval économique\, 1333 boulevard Chomedey\, bureau 401\, Laval\, Québec\, H7V 3Y1\, Canada
CATEGORIES:Exportation
ATTACH;FMTTYPE=image/png:https://lavaleconomique.com/wp-content/uploads/2022/07/accueil-evenements-exportation-390x290-1.png
END:VEVENT
END:VCALENDAR