BEGIN:VCALENDAR
VERSION:2.0
PRODID:-//Laval Économique - ECPv6.15.12.2//NONSGML v1.0//EN
CALSCALE:GREGORIAN
METHOD:PUBLISH
X-WR-CALNAME:Laval Économique
X-ORIGINAL-URL:https://lavaleconomique.com
X-WR-CALDESC:Évènements pour Laval Économique
REFRESH-INTERVAL;VALUE=DURATION:PT1H
X-Robots-Tag:noindex
X-PUBLISHED-TTL:PT1H
BEGIN:VTIMEZONE
TZID:America/New_York
BEGIN:DAYLIGHT
TZOFFSETFROM:-0500
TZOFFSETTO:-0400
TZNAME:EDT
DTSTART:20250309T070000
END:DAYLIGHT
BEGIN:STANDARD
TZOFFSETFROM:-0400
TZOFFSETTO:-0500
TZNAME:EST
DTSTART:20251102T060000
END:STANDARD
BEGIN:DAYLIGHT
TZOFFSETFROM:-0500
TZOFFSETTO:-0400
TZNAME:EDT
DTSTART:20260308T070000
END:DAYLIGHT
BEGIN:STANDARD
TZOFFSETFROM:-0400
TZOFFSETTO:-0500
TZNAME:EST
DTSTART:20261101T060000
END:STANDARD
BEGIN:DAYLIGHT
TZOFFSETFROM:-0500
TZOFFSETTO:-0400
TZNAME:EDT
DTSTART:20270314T070000
END:DAYLIGHT
BEGIN:STANDARD
TZOFFSETFROM:-0400
TZOFFSETTO:-0500
TZNAME:EST
DTSTART:20271107T060000
END:STANDARD
END:VTIMEZONE
BEGIN:VEVENT
DTSTART;VALUE=DATE:20260602
DTEND;VALUE=DATE:20260604
DTSTAMP:20260419T094821
CREATED:20260128T204417Z
LAST-MODIFIED:20260408T190354Z
UID:10000757-1780358400-1780531199@lavaleconomique.com
SUMMARY:RCC STORE Toronto 2026 – Mission entreprises lavalloises
DESCRIPTION:
URL:https://lavaleconomique.com/evenement/rcc-store-toronto-2026-mission-entreprises-lavalloises/
LOCATION:Centre des congrès de Toronto – Édifice nord – 1020\, chemin Martin Grove\, Toronto\, 1020 Martin Grove Rd\, Etobicoke\, Ontario\, M9W1J1\, Canada
CATEGORIES:Mission
ATTACH;FMTTYPE=image/png:https://lavaleconomique.com/wp-content/uploads/2022/07/accueil-evenement-mission-390x290-1.png
END:VEVENT
BEGIN:VEVENT
DTSTART;TZID=America/New_York:20260603T080000
DTEND;TZID=America/New_York:20260603T163000
DTSTAMP:20260419T094821
CREATED:20260311T181536Z
LAST-MODIFIED:20260413T153123Z
UID:10000764-1780473600-1780504200@lavaleconomique.com
SUMMARY:Rendez-vous RH 4e édition : mieux gérer\, mieux soutenir\, mieux mobiliser
DESCRIPTION:
URL:https://lavaleconomique.com/evenement/4e-rendez-vous-rh-2026/
LOCATION:Château Royal\, 3500\, boulevard du Souvenir\, Laval\, Québec\, H7V 1X2\, Canada
CATEGORIES:Événement vedette,Talent
ATTACH;FMTTYPE=image/png:https://lavaleconomique.com/wp-content/uploads/2025/01/dev91-maindoeuvre-rdv-rh-25-siteweb-ban-icone-390x290px-1.png
END:VEVENT
END:VCALENDAR