BEGIN:VCALENDAR
VERSION:2.0
PRODID:-//Laval Économique - ECPv6.15.12.2//NONSGML v1.0//EN
CALSCALE:GREGORIAN
METHOD:PUBLISH
X-WR-CALNAME:Laval Économique
X-ORIGINAL-URL:https://lavaleconomique.com
X-WR-CALDESC:Évènements pour Laval Économique
REFRESH-INTERVAL;VALUE=DURATION:PT1H
X-Robots-Tag:noindex
X-PUBLISHED-TTL:PT1H
BEGIN:VTIMEZONE
TZID:America/New_York
BEGIN:DAYLIGHT
TZOFFSETFROM:-0500
TZOFFSETTO:-0400
TZNAME:EDT
DTSTART:20230312T070000
END:DAYLIGHT
BEGIN:STANDARD
TZOFFSETFROM:-0400
TZOFFSETTO:-0500
TZNAME:EST
DTSTART:20231105T060000
END:STANDARD
BEGIN:DAYLIGHT
TZOFFSETFROM:-0500
TZOFFSETTO:-0400
TZNAME:EDT
DTSTART:20240310T070000
END:DAYLIGHT
BEGIN:STANDARD
TZOFFSETFROM:-0400
TZOFFSETTO:-0500
TZNAME:EST
DTSTART:20241103T060000
END:STANDARD
BEGIN:DAYLIGHT
TZOFFSETFROM:-0500
TZOFFSETTO:-0400
TZNAME:EDT
DTSTART:20250309T070000
END:DAYLIGHT
BEGIN:STANDARD
TZOFFSETFROM:-0400
TZOFFSETTO:-0500
TZNAME:EST
DTSTART:20251102T060000
END:STANDARD
END:VTIMEZONE
BEGIN:VEVENT
DTSTART;TZID=America/New_York:20240926T120000
DTEND;TZID=America/New_York:20240926T133000
DTSTAMP:20260422T155203
CREATED:20240718T185359Z
LAST-MODIFIED:20240813T155732Z
UID:10000663-1727352000-1727357400@lavaleconomique.com
SUMMARY:L’éminence grise\, un plateau d’argent à votre disposition
DESCRIPTION:
URL:https://lavaleconomique.com/evenement/leminence-grise-un-plateau-dargent-a-votre-disposition/
LOCATION:Laval économique\, 1333 boulevard Chomedey\, bureau 401\, Laval\, Québec\, H7V 3Y1\, Canada
CATEGORIES:Formation
ATTACH;FMTTYPE=image/png:https://lavaleconomique.com/wp-content/uploads/2024/07/dev03-bandeaux-evenements-midisavoir-390x290-1.png
END:VEVENT
END:VCALENDAR