BEGIN:VCALENDAR
VERSION:2.0
PRODID:-//Laval Économique - ECPv6.15.12.2//NONSGML v1.0//EN
CALSCALE:GREGORIAN
METHOD:PUBLISH
X-ORIGINAL-URL:https://lavaleconomique.com
X-WR-CALDESC:Évènements pour Laval Économique
REFRESH-INTERVAL;VALUE=DURATION:PT1H
X-Robots-Tag:noindex
X-PUBLISHED-TTL:PT1H
BEGIN:VTIMEZONE
TZID:America/New_York
BEGIN:DAYLIGHT
TZOFFSETFROM:-0500
TZOFFSETTO:-0400
TZNAME:EDT
DTSTART:20230312T070000
END:DAYLIGHT
BEGIN:STANDARD
TZOFFSETFROM:-0400
TZOFFSETTO:-0500
TZNAME:EST
DTSTART:20231105T060000
END:STANDARD
BEGIN:DAYLIGHT
TZOFFSETFROM:-0500
TZOFFSETTO:-0400
TZNAME:EDT
DTSTART:20240310T070000
END:DAYLIGHT
BEGIN:STANDARD
TZOFFSETFROM:-0400
TZOFFSETTO:-0500
TZNAME:EST
DTSTART:20241103T060000
END:STANDARD
BEGIN:DAYLIGHT
TZOFFSETFROM:-0500
TZOFFSETTO:-0400
TZNAME:EDT
DTSTART:20250309T070000
END:DAYLIGHT
BEGIN:STANDARD
TZOFFSETFROM:-0400
TZOFFSETTO:-0500
TZNAME:EST
DTSTART:20251102T060000
END:STANDARD
END:VTIMEZONE
BEGIN:VEVENT
DTSTART;TZID=America/New_York:20240605T080000
DTEND;TZID=America/New_York:20240605T133000
DTSTAMP:20260422T205121
CREATED:20240308T211550Z
LAST-MODIFIED:20240529T155605Z
UID:10000095-1717574400-1717594200@lavaleconomique.com
SUMMARY:2e édition du Rendez-vous RH
DESCRIPTION:https://www.eventbrite.ca/e/billets-2e-edition-du-rendez-vous-rh-856223336047
URL:https://lavaleconomique.com/evenement/2e-edition-du-rendez-vous-rh/
LOCATION:Château Royal\, 3500\, boulevard du Souvenir\, Laval\, Québec\, H7V 1X2\, Canada
CATEGORIES:Talent
ATTACH;FMTTYPE=image/png:https://lavaleconomique.com/wp-content/uploads/2023/09/dev91-maindoeuvre-rdv-rh-evenement-site-web-390x290-1.png
END:VEVENT
END:VCALENDAR